Back to Multiple platform build/check report for BioC 3.12 experimental data
AB[C]DEFGHIJKLMNOPQRSTUVWXYZ

BUILD report for CopyNeutralIMA on malbec1

This page was generated on 2021-01-14 14:10:19 -0500 (Thu, 14 Jan 2021).

TO THE DEVELOPERS/MAINTAINERS OF THE CopyNeutralIMA PACKAGE: Please make sure to use the following settings in order to reproduce any error or warning you see on this page.
Package 76/398HostnameOS / ArchINSTALLBUILDCHECK
CopyNeutralIMA 1.8.0
Xavier Pastor Hostench
Snapshot Date: 2021-01-14 09:00:17 -0500 (Thu, 14 Jan 2021)
URL: https://git.bioconductor.org/packages/CopyNeutralIMA
Branch: RELEASE_3_12
Last Commit: 2f77b25
Last Changed Date: 2020-10-27 10:27:13 -0500 (Tue, 27 Oct 2020)
malbec1 Linux (Ubuntu 18.04.5 LTS) / x86_64  OK [ OK ] OK UNNEEDED, same version exists in internal repository
nebbiolo1 Linux (Ubuntu 20.04.1 LTS) / x86_64  OK  OK  OK 

Summary

Package: CopyNeutralIMA
Version: 1.8.0
Command: /home/biocbuild/bbs-3.12-bioc/R/bin/R CMD build --keep-empty-dirs --no-resave-data CopyNeutralIMA
StartedAt: 2021-01-14 10:36:17 -0500 (Thu, 14 Jan 2021)
EndedAt: 2021-01-14 10:40:06 -0500 (Thu, 14 Jan 2021)
EllapsedTime: 229.2 seconds
RetCode: 0
Status:  OK 
PackageFile: CopyNeutralIMA_1.8.0.tar.gz
PackageFileSize: 535.2 KiB

Command output

##############################################################################
##############################################################################
###
### Running command:
###
###   /home/biocbuild/bbs-3.12-bioc/R/bin/R CMD build --keep-empty-dirs --no-resave-data CopyNeutralIMA
###
##############################################################################
##############################################################################


* checking for file ‘CopyNeutralIMA/DESCRIPTION’ ... OK
* preparing ‘CopyNeutralIMA’:
* checking DESCRIPTION meta-information ... OK
* installing the package to process help pages
Loading required namespace: CopyNeutralIMA
* saving partial Rd database
* creating vignettes ... OK
* checking for LF line-endings in source and make files and shell scripts
* checking for empty or unneeded directories
* building ‘CopyNeutralIMA_1.8.0.tar.gz’