Back to Multiple platform build/check report for BioC 3.12 experimental data
AB[C]DEFGHIJKLMNOPQRSTUVWXYZ

Multiple platform build/check report for BioC 3.12 experimental data

Results for package ConnectivityMap

This page was generated on 2021-03-04 14:10:07 -0500 (Thu, 04 Mar 2021).

Package 73/398HostnameOS / ArchINSTALLBUILDCHECK
ConnectivityMap 1.26.0
Paul Shannon
Snapshot Date: 2021-03-04 09:00:13 -0500 (Thu, 04 Mar 2021)
URL: https://git.bioconductor.org/packages/ConnectivityMap
Branch: RELEASE_3_12
Last Commit: a724faa
Last Changed Date: 2020-10-27 10:01:07 -0500 (Tue, 27 Oct 2020)
malbec1Linux (Ubuntu 18.04.5 LTS) / x86_64  OK    OK    OK  UNNEEDED, same version exists in internal repository
nebbiolo1Linux (Ubuntu 20.04.2 LTS) / x86_64  OK    OK    OK