Back to Multiple platform build/check report for BioC 3.12 experimental data |
|
This page was generated on 2021-01-18 14:10:16 -0500 (Mon, 18 Jan 2021).
Package 57/398 | Hostname | OS / Arch | INSTALL | BUILD | CHECK | ||||||
ChIC.data 1.10.0 Carmen Maria Livi
| malbec1 | Linux (Ubuntu 18.04.5 LTS) / x86_64 | OK | OK | OK | ![]() | |||||
nebbiolo1 | Linux (Ubuntu 20.04.1 LTS) / x86_64 | OK | OK | OK |