Index of /checkResults/release/data-experiment-LATEST/CardinalWorkflows/raw-results
Name
Last modified
Size
Description
Parent Directory
-
info.dcf
03-May-2024 03:51
297
nebbiolo1/
03-May-2024 03:51
-