Index of /checkResults/release/data-experiment-LATEST/BloodCancerMultiOmics2017/raw-results/nebbiolo1

[ICO]NameLast modifiedSizeDescription

[DIR]Parent Directory  -  
[   ]install-summary.dcf19-Jul-2024 03:51 295  
[TXT]install-out.txt19-Jul-2024 03:51 1.0K 
[   ]checksrc-summary.dcf19-Jul-2024 03:51 493  
[TXT]checksrc-out.txt19-Jul-2024 03:51 3.8K 
[   ]buildsrc-summary.dcf19-Jul-2024 03:51 473  
[TXT]buildsrc-out.txt19-Jul-2024 03:51 878