Index of /checkResults/release/data-experiment-LATEST/AshkenazimSonChr21/raw-results
Name
Last modified
Size
Description
Parent Directory
-
info.dcf
12-Jun-2024 03:51
303
nebbiolo1/
12-Jun-2024 03:51
-