Index of /checkResults/release/data-experiment-LATEST/AmpAffyExample/raw-results

[ICO]NameLast modifiedSizeDescription

[DIR]Parent Directory  -  
[   ]info.dcf02-Jun-2023 03:51 283  
[DIR]nebbiolo1/02-Jun-2023 03:51 -