Index of /checkResults/release/data-experiment-LATEST/Affymoe4302Expr/raw-results
Name
Last modified
Size
Description
Parent Directory
-
info.dcf
08-Dec-2023 04:52
278
nebbiolo2/
08-Dec-2023 04:52
-