Index of /checkResults/release/data-experiment-LATEST/AffymetrixDataTestFiles/raw-results

[ICO]NameLast modifiedSizeDescription

[DIR]Parent Directory  -  
[   ]info.dcf31-Mar-2023 03:50 307  
[DIR]nebbiolo2/31-Mar-2023 03:50 -