Back to Build/check report for BioC 3.18 experimental data
[A]BCDEFGHIJKLMNOPQRSTUVWXYZ

This page was generated on 2024-02-27 14:52:00 -0500 (Tue, 27 Feb 2024).

HostnameOSArch (*)R versionInstalled pkgs
nebbiolo2Linux (Ubuntu 22.04.3 LTS)x86_644.3.2 Patched (2023-11-13 r85521) -- "Eye Holes" 4691
Click on any hostname to see more info about the system (e.g. compilers)      (*) as reported by 'uname -p', except on Windows and Mac OS X

Package 7/429HostnameOS / ArchINSTALLBUILDCHECK
AffymetrixDataTestFiles 0.40.0  (landing page)
Henrik Bengtsson
Snapshot Date: 2024-02-27 07:30:01 -0500 (Tue, 27 Feb 2024)
git_url: https://git.bioconductor.org/packages/AffymetrixDataTestFiles
git_branch: RELEASE_3_18
git_last_commit: 6b95627
git_last_commit_date: 2023-10-24 08:53:03 -0500 (Tue, 24 Oct 2023)
nebbiolo2Linux (Ubuntu 22.04.3 LTS) / x86_64  OK    OK    OK  UNNEEDED, same version is already published

INSTALL results for AffymetrixDataTestFiles on nebbiolo2


To the developers/maintainers of the AffymetrixDataTestFiles package:
- Use the following Renviron settings to reproduce errors and warnings.
- If 'R CMD check' started to fail recently on the Linux builder(s) over a missing dependency, add the missing dependency to 'Suggests:' in your DESCRIPTION file. See Renviron.bioc for more information.

raw results


Summary

Package: AffymetrixDataTestFiles
Version: 0.40.0
Command: /home/biocbuild/bbs-3.18-bioc/R/bin/R CMD INSTALL AffymetrixDataTestFiles
StartedAt: 2024-02-27 10:01:08 -0500 (Tue, 27 Feb 2024)
EndedAt: 2024-02-27 10:01:10 -0500 (Tue, 27 Feb 2024)
EllapsedTime: 2.2 seconds
RetCode: 0
Status:   OK  

Command output

##############################################################################
##############################################################################
###
### Running command:
###
###   /home/biocbuild/bbs-3.18-bioc/R/bin/R CMD INSTALL AffymetrixDataTestFiles
###
##############################################################################
##############################################################################


* installing to library ‘/home/biocbuild/bbs-3.18-bioc/R/site-library’
* installing *source* package ‘AffymetrixDataTestFiles’ ...
** using staged installation
** R
** inst
** byte-compile and prepare package for lazy loading
** help
*** installing help indices
** building package indices
** testing if installed package can be loaded from temporary location
** testing if installed package can be loaded from final location
** testing if installed package keeps a record of temporary installation path
* DONE (AffymetrixDataTestFiles)