Name | Last modified | Size | Description | |
---|---|---|---|---|
Parent Directory | - | |||
buildbin-out.txt | 08-May-2024 00:32 | 1.4K | ||
buildbin-summary.dcf | 08-May-2024 00:32 | 554 | ||
buildsrc-out.txt | 08-May-2024 00:32 | 895 | ||
buildsrc-summary.dcf | 08-May-2024 00:32 | 439 | ||
checksrc-out.txt | 08-May-2024 00:32 | 4.1K | ||
checksrc-summary.dcf | 08-May-2024 00:32 | 460 | ||
install-out.txt | 08-May-2024 00:32 | 1.2K | ||
install-summary.dcf | 08-May-2024 00:32 | 277 | ||