Name | Last modified | Size | Description | |
---|---|---|---|---|
Parent Directory | - | |||
buildbin-summary.dcf | 08-May-2024 00:32 | 521 | ||
buildbin-out.txt | 08-May-2024 00:32 | 7.7K | ||
checksrc-summary.dcf | 08-May-2024 00:32 | 437 | ||
checksrc-out.txt | 08-May-2024 00:32 | 3.9K | ||
buildsrc-summary.dcf | 08-May-2024 00:32 | 422 | ||
buildsrc-out.txt | 08-May-2024 00:32 | 841 | ||
install-summary.dcf | 08-May-2024 00:32 | 266 | ||
install-out.txt | 08-May-2024 00:32 | 5.7K | ||