Index of /checkResults/release/bioc-mac-arm64-LATEST/signeR/raw-results/kjohnson3

[ICO]NameLast modifiedSizeDescription

[DIR]Parent Directory  -  
[TXT]buildbin-out.txt08-May-2024 00:32 6.9K 
[   ]buildbin-summary.dcf08-May-2024 00:32 521  
[TXT]buildsrc-out.txt08-May-2024 00:32 873  
[   ]buildsrc-summary.dcf08-May-2024 00:32 422  
[TXT]checksrc-out.txt08-May-2024 00:32 7.1K 
[   ]checksrc-summary.dcf08-May-2024 00:32 438  
[TXT]install-out.txt08-May-2024 00:32 3.4K 
[   ]install-summary.dcf08-May-2024 00:32 266