Name | Last modified | Size | Description | |
---|---|---|---|---|
Parent Directory | - | |||
install-summary.dcf | 08-May-2024 00:32 | 267 | ||
buildsrc-summary.dcf | 08-May-2024 00:32 | 424 | ||
checksrc-summary.dcf | 08-May-2024 00:32 | 440 | ||
buildbin-summary.dcf | 08-May-2024 00:32 | 524 | ||
buildsrc-out.txt | 08-May-2024 00:32 | 905 | ||
checksrc-out.txt | 08-May-2024 00:32 | 4.7K | ||
install-out.txt | 08-May-2024 00:32 | 6.2K | ||
buildbin-out.txt | 08-May-2024 00:32 | 8.7K | ||