Name | Last modified | Size | Description | |
---|---|---|---|---|
Parent Directory | - | |||
checksrc-out.txt | 08-May-2024 00:32 | 3.3K | ||
buildbin-out.txt | 08-May-2024 00:32 | 1.4K | ||
install-out.txt | 08-May-2024 00:32 | 1.2K | ||
buildsrc-out.txt | 08-May-2024 00:32 | 840 | ||
buildbin-summary.dcf | 08-May-2024 00:32 | 563 | ||
checksrc-summary.dcf | 08-May-2024 00:32 | 467 | ||
buildsrc-summary.dcf | 08-May-2024 00:32 | 445 | ||
install-summary.dcf | 08-May-2024 00:32 | 280 | ||