Index of /checkResults/release/bioc-mac-arm64-LATEST/methylGSA/raw-results/kjohnson3

[ICO]NameLast modifiedSizeDescription

[DIR]Parent Directory  -  
[TXT]buildbin-out.txt08-May-2024 00:32 1.2K 
[   ]buildbin-summary.dcf08-May-2024 00:32 542  
[TXT]buildsrc-out.txt08-May-2024 00:32 887  
[   ]buildsrc-summary.dcf08-May-2024 00:32 433  
[TXT]checksrc-out.txt08-May-2024 00:32 3.8K 
[   ]checksrc-summary.dcf08-May-2024 00:32 452  
[TXT]install-out.txt08-May-2024 00:32 1.0K 
[   ]install-summary.dcf08-May-2024 00:32 273