Index of /checkResults/release/bioc-mac-arm64-LATEST/metagenomeSeq/raw-results/kjohnson3

[ICO]NameLast modifiedSizeDescription

[DIR]Parent Directory  -  
[TXT]buildbin-out.txt08-May-2024 00:32 1.4K 
[   ]buildbin-summary.dcf08-May-2024 00:32 565  
[TXT]buildsrc-out.txt08-May-2024 00:32 903  
[   ]buildsrc-summary.dcf08-May-2024 00:32 445  
[TXT]checksrc-out.txt08-May-2024 00:32 3.4K 
[   ]checksrc-summary.dcf08-May-2024 00:32 467  
[TXT]install-out.txt08-May-2024 00:32 1.2K 
[   ]install-summary.dcf08-May-2024 00:32 280