Index of /checkResults/release/bioc-mac-arm64-LATEST/metagenomeSeq/raw-results

[ICO]NameLast modifiedSizeDescription

[DIR]Parent Directory  -  
[DIR]kjohnson3/08-May-2024 00:32 -  
[   ]info.dcf08-May-2024 00:32 291