Name | Last modified | Size | Description | |
---|---|---|---|---|
Parent Directory | - | |||
buildsrc-out.txt | 08-May-2024 00:32 | 890 | ||
buildsrc-summary.dcf | 08-May-2024 00:32 | 430 | ||
checksrc-summary.dcf | 08-May-2024 00:32 | 448 | ||
install-out.txt | 08-May-2024 00:32 | 4.6K | ||
install-summary.dcf | 08-May-2024 00:32 | 271 | ||
buildbin-out.txt | 08-May-2024 00:32 | 6.7K | ||
buildbin-summary.dcf | 08-May-2024 00:32 | 536 | ||
checksrc-out.txt | 08-May-2024 00:32 | 3.7K | ||