Name | Last modified | Size | Description | |
---|---|---|---|---|
Parent Directory | - | |||
install-summary.dcf | 08-May-2024 00:32 | 260 | ||
buildsrc-summary.dcf | 08-May-2024 00:32 | 414 | ||
checksrc-summary.dcf | 08-May-2024 00:32 | 427 | ||
buildbin-summary.dcf | 08-May-2024 00:32 | 505 | ||
buildsrc-out.txt | 08-May-2024 00:32 | 800 | ||
install-out.txt | 08-May-2024 00:32 | 1.0K | ||
buildbin-out.txt | 08-May-2024 00:32 | 1.1K | ||
checksrc-out.txt | 08-May-2024 00:32 | 4.7K | ||