Back to Mac ARM64 build report for BioC 3.18
AB[C]DEFGHIJKLMNOPQRSTUVWXYZ

This page was generated on 2024-03-28 11:32:18 -0400 (Thu, 28 Mar 2024).

HostnameOSArch (*)R versionInstalled pkgs
kjohnson1macOS 13.6.1 Venturaarm644.3.3 (2024-02-29) -- "Angel Food Cake" 4376
Click on any hostname to see more info about the system (e.g. compilers)      (*) as reported by 'uname -p', except on Windows and Mac OS X

Package 348/2266HostnameOS / ArchINSTALLBUILDCHECKBUILD BIN
cicero 1.20.0  (landing page)
Hannah Pliner
Snapshot Date: 2024-03-26 09:00:03 -0400 (Tue, 26 Mar 2024)
git_url: https://git.bioconductor.org/packages/cicero
git_branch: RELEASE_3_18
git_last_commit: 5f59985
git_last_commit_date: 2023-10-24 11:08:17 -0400 (Tue, 24 Oct 2023)
kjohnson1macOS 13.6.1 Ventura / arm64  ERROR    ERROR  skippedskipped

BUILD results for cicero on kjohnson1


To the developers/maintainers of the cicero package:
- Use the following Renviron settings to reproduce errors and warnings.
- If 'R CMD check' started to fail recently on the Linux builder(s) over a missing dependency, add the missing dependency to 'Suggests:' in your DESCRIPTION file. See Renviron.bioc for more information.

raw results


Summary

Package: cicero
Version: 1.20.0
Command: /Library/Frameworks/R.framework/Resources/bin/R CMD build --keep-empty-dirs --no-resave-data cicero
StartedAt: 2024-03-26 15:24:36 -0400 (Tue, 26 Mar 2024)
EndedAt: 2024-03-26 15:24:38 -0400 (Tue, 26 Mar 2024)
EllapsedTime: 2.3 seconds
RetCode: 1
Status:   ERROR  
PackageFile: None
PackageFileSize: NA

Command output

##############################################################################
##############################################################################
###
### Running command:
###
###   /Library/Frameworks/R.framework/Resources/bin/R CMD build --keep-empty-dirs --no-resave-data cicero
###
##############################################################################
##############################################################################


* checking for file ‘cicero/DESCRIPTION’ ... OK
* preparing ‘cicero’:
* checking DESCRIPTION meta-information ... OK
* installing the package to build vignettes
      -----------------------------------
ERROR: dependency ‘monocle’ is not available for package ‘cicero’
* removing ‘/private/tmp/RtmpbYMXiW/Rinst1406557f06673/cicero’
      -----------------------------------
ERROR: package installation failed