Back to Mac ARM64 build report for BioC 3.18
AB[C]DEFGHIJKLMNOPQRSTUVWXYZ

This page was generated on 2024-03-07 14:39:53 -0500 (Thu, 07 Mar 2024).

HostnameOSArch (*)R versionInstalled pkgs
kjohnson1macOS 13.6.1 Venturaarm644.3.2 (2023-10-31) -- "Eye Holes" 4346
Click on any hostname to see more info about the system (e.g. compilers)      (*) as reported by 'uname -p', except on Windows and Mac OS X

Package 348/2266HostnameOS / ArchINSTALLBUILDCHECKBUILD BIN
cicero 1.20.0  (landing page)
Hannah Pliner
Snapshot Date: 2024-03-05 09:00:03 -0500 (Tue, 05 Mar 2024)
git_url: https://git.bioconductor.org/packages/cicero
git_branch: RELEASE_3_18
git_last_commit: 5f59985
git_last_commit_date: 2023-10-24 11:08:17 -0500 (Tue, 24 Oct 2023)
kjohnson1macOS 13.6.1 Ventura / arm64  OK    OK    OK    OK  UNNEEDED, same version is already published

BUILD BIN results for cicero on kjohnson1


To the developers/maintainers of the cicero package:
- Use the following Renviron settings to reproduce errors and warnings.
- If 'R CMD check' started to fail recently on the Linux builder(s) over a missing dependency, add the missing dependency to 'Suggests:' in your DESCRIPTION file. See Renviron.bioc for more information.

raw results


Summary

Package: cicero
Version: 1.20.0
Command: rm -rf cicero.buildbin-libdir && mkdir cicero.buildbin-libdir && /Users/biocbuild/BBS/utils/build-universal.sh cicero_1.20.0.tar.gz /Library/Frameworks/R.framework/Resources/bin/R cicero.buildbin-libdir
StartedAt: 2024-03-07 08:05:01 -0500 (Thu, 07 Mar 2024)
EndedAt: 2024-03-07 08:06:26 -0500 (Thu, 07 Mar 2024)
EllapsedTime: 85.0 seconds
RetCode: 0
Status:   OK  
PackageFile: cicero_1.20.0.tgz
PackageFileSize: 1.258 MiB

Command output

##############################################################################
##############################################################################
###
### Running command:
###
###   rm -rf cicero.buildbin-libdir && mkdir cicero.buildbin-libdir && /Users/biocbuild/BBS/utils/build-universal.sh cicero_1.20.0.tar.gz /Library/Frameworks/R.framework/Resources/bin/R cicero.buildbin-libdir
###
##############################################################################
##############################################################################


>>>>>>> 
>>>>>>> INSTALLATION WITH 'R CMD INSTALL --preclean --no-multiarch --library=cicero.buildbin-libdir cicero_1.20.0.tar.gz'
>>>>>>> 

* installing *source* package ‘cicero’ ...
** using staged installation
** R
** data
*** moving datasets to lazyload DB
** inst
** byte-compile and prepare package for lazy loading
** help
*** installing help indices
** building package indices
** installing vignettes
** testing if installed package can be loaded from temporary location
** testing if installed package can be loaded from final location
** testing if installed package keeps a record of temporary installation path
* DONE (cicero)