Index of /checkResults/release/bioc-mac-arm64-LATEST/biovizBase/raw-results/kjohnson3

[ICO]NameLast modifiedSizeDescription

[DIR]Parent Directory  -  
[TXT]buildbin-out.txt08-May-2024 00:32 4.4K 
[   ]buildbin-summary.dcf08-May-2024 00:32 548  
[TXT]buildsrc-out.txt08-May-2024 00:32 858  
[   ]buildsrc-summary.dcf08-May-2024 00:32 436  
[TXT]checksrc-out.txt08-May-2024 00:32 6.5K 
[   ]checksrc-summary.dcf08-May-2024 00:32 462  
[TXT]install-out.txt08-May-2024 00:32 2.5K 
[   ]install-summary.dcf08-May-2024 00:32 275