Index of /checkResults/release/bioc-mac-arm64-LATEST/bambu/raw-results/kjohnson3

[ICO]NameLast modifiedSizeDescription

[DIR]Parent Directory  -  
[TXT]buildbin-out.txt08-May-2024 00:32 6.0K 
[   ]buildbin-summary.dcf08-May-2024 00:32 515  
[TXT]buildsrc-out.txt08-May-2024 00:32 877  
[   ]buildsrc-summary.dcf08-May-2024 00:32 420  
[TXT]checksrc-out.txt08-May-2024 00:32 4.3K 
[   ]checksrc-summary.dcf08-May-2024 00:32 434  
[TXT]install-out.txt08-May-2024 00:32 2.5K 
[   ]install-summary.dcf08-May-2024 00:32 264