Name | Last modified | Size | Description | |
---|---|---|---|---|
Parent Directory | - | |||
buildbin-out.txt | 08-May-2024 00:32 | 1.2K | ||
buildbin-summary.dcf | 08-May-2024 00:32 | 542 | ||
buildsrc-out.txt | 08-May-2024 00:32 | 824 | ||
buildsrc-summary.dcf | 08-May-2024 00:32 | 433 | ||
checksrc-out.txt | 08-May-2024 00:32 | 3.4K | ||
checksrc-summary.dcf | 08-May-2024 00:32 | 451 | ||
install-out.txt | 08-May-2024 00:32 | 1.0K | ||
install-summary.dcf | 08-May-2024 00:32 | 273 | ||