Back to Mac ARM64 build report for BioC 3.18
ABCDEFGHIJKLMNOPQRS[T]UVWXYZ

This page was generated on 2024-03-28 11:32:34 -0400 (Thu, 28 Mar 2024).

HostnameOSArch (*)R versionInstalled pkgs
kjohnson1macOS 13.6.1 Venturaarm644.3.3 (2024-02-29) -- "Angel Food Cake" 4376
Click on any hostname to see more info about the system (e.g. compilers)      (*) as reported by 'uname -p', except on Windows and Mac OS X

Package 2140/2266HostnameOS / ArchINSTALLBUILDCHECKBUILD BIN
TitanCNA 1.40.0  (landing page)
Gavin Ha
Snapshot Date: 2024-03-26 09:00:03 -0400 (Tue, 26 Mar 2024)
git_url: https://git.bioconductor.org/packages/TitanCNA
git_branch: RELEASE_3_18
git_last_commit: 5ad4699
git_last_commit_date: 2023-10-24 09:58:42 -0400 (Tue, 24 Oct 2023)
kjohnson1macOS 13.6.1 Ventura / arm64  OK    OK    WARNINGS    OK  UNNEEDED, same version is already published

BUILD results for TitanCNA on kjohnson1


To the developers/maintainers of the TitanCNA package:
- Use the following Renviron settings to reproduce errors and warnings.
- If 'R CMD check' started to fail recently on the Linux builder(s) over a missing dependency, add the missing dependency to 'Suggests:' in your DESCRIPTION file. See Renviron.bioc for more information.

raw results


Summary

Package: TitanCNA
Version: 1.40.0
Command: /Library/Frameworks/R.framework/Resources/bin/R CMD build --keep-empty-dirs --no-resave-data TitanCNA
StartedAt: 2024-03-27 03:46:27 -0400 (Wed, 27 Mar 2024)
EndedAt: 2024-03-27 03:48:38 -0400 (Wed, 27 Mar 2024)
EllapsedTime: 131.1 seconds
RetCode: 0
Status:   OK  
PackageFile: TitanCNA_1.40.0.tar.gz
PackageFileSize: 3.924 MiB

Command output

##############################################################################
##############################################################################
###
### Running command:
###
###   /Library/Frameworks/R.framework/Resources/bin/R CMD build --keep-empty-dirs --no-resave-data TitanCNA
###
##############################################################################
##############################################################################


* checking for file ‘TitanCNA/DESCRIPTION’ ... OK
* preparing ‘TitanCNA’:
* checking DESCRIPTION meta-information ... OK
* cleaning src
* installing the package to build vignettes
* creating vignettes ... OK
* cleaning src
* checking for LF line-endings in source and make files and shell scripts
* checking for empty or unneeded directories
WARNING: directory ‘TitanCNA/scripts’ is empty
* looking to see if a ‘data/datalist’ file should be added
* building ‘TitanCNA_1.40.0.tar.gz’