Name | Last modified | Size | Description | |
---|---|---|---|---|
Parent Directory | - | |||
buildbin-out.txt | 08-May-2024 00:32 | 1.2K | ||
buildbin-summary.dcf | 08-May-2024 00:32 | 534 | ||
buildsrc-out.txt | 08-May-2024 00:32 | 883 | ||
buildsrc-summary.dcf | 08-May-2024 00:32 | 428 | ||
checksrc-out.txt | 08-May-2024 00:32 | 4.5K | ||
checksrc-summary.dcf | 08-May-2024 00:32 | 447 | ||
install-out.txt | 08-May-2024 00:32 | 1.0K | ||
install-summary.dcf | 08-May-2024 00:32 | 270 | ||