Index of /checkResults/release/bioc-mac-arm64-LATEST/R453Plus1Toolbox/raw-results/kjohnson3

[ICO]NameLast modifiedSizeDescription

[DIR]Parent Directory  -  
[TXT]buildbin-out.txt08-May-2024 00:32 4.2K 
[   ]buildbin-summary.dcf08-May-2024 00:32 584  
[TXT]buildsrc-out.txt08-May-2024 00:32 945  
[   ]buildsrc-summary.dcf08-May-2024 00:32 454  
[TXT]checksrc-out.txt08-May-2024 00:32 5.2K 
[   ]checksrc-summary.dcf08-May-2024 00:32 480  
[TXT]install-out.txt08-May-2024 00:32 2.1K 
[   ]install-summary.dcf08-May-2024 00:32 287