Name | Last modified | Size | Description | |
---|---|---|---|---|
Parent Directory | - | |||
install-summary.dcf | 08-May-2024 00:32 | 284 | ||
buildsrc-out.txt | 08-May-2024 00:32 | 848 | ||
buildsrc-summary.dcf | 08-May-2024 00:32 | 452 | ||
checksrc-out.txt | 08-May-2024 00:32 | 3.3K | ||
checksrc-summary.dcf | 08-May-2024 00:32 | 475 | ||
install-out.txt | 08-May-2024 00:32 | 1.0K | ||
buildbin-out.txt | 08-May-2024 00:32 | 1.2K | ||
buildbin-summary.dcf | 08-May-2024 00:32 | 577 | ||