Name | Last modified | Size | Description | |
---|---|---|---|---|
Parent Directory | - | |||
install-out.txt | 08-May-2024 00:32 | 1.0K | ||
install-summary.dcf | 08-May-2024 00:32 | 272 | ||
buildsrc-out.txt | 08-May-2024 00:32 | 823 | ||
buildsrc-summary.dcf | 08-May-2024 00:32 | 431 | ||
checksrc-out.txt | 08-May-2024 00:32 | 6.0K | ||
checksrc-summary.dcf | 08-May-2024 00:32 | 450 | ||
buildbin-out.txt | 08-May-2024 00:32 | 1.2K | ||
buildbin-summary.dcf | 08-May-2024 00:32 | 539 | ||