Index of /checkResults/release/bioc-mac-arm64-LATEST/MutationalPatterns/raw-results/kjohnson3
Name
Last modified
Size
Description
Parent Directory
-
buildsrc-out.txt
08-May-2024 00:32
1.3K
buildsrc-summary.dcf
08-May-2024 00:32
365
install-out.txt
08-May-2024 00:32
1.0K
install-summary.dcf
08-May-2024 00:32
290