Name | Last modified | Size | Description | |
---|---|---|---|---|
Parent Directory | - | |||
checksrc-out.txt | 08-May-2024 00:32 | 3.2K | ||
buildbin-out.txt | 08-May-2024 00:32 | 1.1K | ||
install-out.txt | 08-May-2024 00:32 | 1.0K | ||
buildsrc-out.txt | 08-May-2024 00:32 | 870 | ||
buildbin-summary.dcf | 08-May-2024 00:32 | 514 | ||
checksrc-summary.dcf | 08-May-2024 00:32 | 433 | ||
buildsrc-summary.dcf | 08-May-2024 00:32 | 419 | ||
install-summary.dcf | 08-May-2024 00:32 | 263 | ||