Index of /checkResults/release/bioc-mac-arm64-LATEST/MADSEQ/raw-results

[ICO]NameLast modifiedSizeDescription

[DIR]Parent Directory  -  
[   ]info.dcf29-Mar-2024 00:32 271  
[DIR]kjohnson1/29-Mar-2024 00:32 -