Name | Last modified | Size | Description | |
---|---|---|---|---|
Parent Directory | - | |||
install-summary.dcf | 08-May-2024 00:32 | 272 | ||
install-out.txt | 08-May-2024 00:32 | 9.0K | ||
checksrc-summary.dcf | 08-May-2024 00:32 | 458 | ||
checksrc-out.txt | 08-May-2024 00:32 | 5.7K | ||
buildsrc-summary.dcf | 08-May-2024 00:32 | 432 | ||
buildsrc-out.txt | 08-May-2024 00:32 | 767 | ||
buildbin-summary.dcf | 08-May-2024 00:32 | 542 | ||
buildbin-out.txt | 08-May-2024 00:32 | 11K | ||