Index of /checkResults/release/bioc-mac-arm64-LATEST/CNVrd2/raw-results/kjohnson3

[ICO]NameLast modifiedSizeDescription

[DIR]Parent Directory  -  
[TXT]buildbin-out.txt08-May-2024 00:32 1.1K 
[   ]buildbin-summary.dcf08-May-2024 00:32 524  
[TXT]buildsrc-out.txt08-May-2024 00:32 875  
[   ]buildsrc-summary.dcf08-May-2024 00:32 424  
[TXT]checksrc-out.txt08-May-2024 00:32 10K 
[   ]checksrc-summary.dcf08-May-2024 00:32 439  
[TXT]install-out.txt08-May-2024 00:32 1.0K 
[   ]install-summary.dcf08-May-2024 00:32 267