Name | Last modified | Size | Description | |
---|---|---|---|---|
Parent Directory | - | |||
buildbin-out.txt | 08-May-2024 00:32 | 19K | ||
buildbin-summary.dcf | 08-May-2024 00:32 | 511 | ||
buildsrc-out.txt | 08-May-2024 00:32 | 897 | ||
buildsrc-summary.dcf | 08-May-2024 00:32 | 418 | ||
checksrc-out.txt | 08-May-2024 00:32 | 12K | ||
checksrc-summary.dcf | 08-May-2024 00:32 | 437 | ||
install-out.txt | 08-May-2024 00:32 | 16K | ||
install-summary.dcf | 08-May-2024 00:32 | 262 | ||