Name | Last modified | Size | Description | |
---|---|---|---|---|
Parent Directory | - | |||
buildbin-out.txt | 08-May-2024 00:32 | 3.7K | ||
buildbin-summary.dcf | 08-May-2024 00:32 | 541 | ||
buildsrc-out.txt | 08-May-2024 00:32 | 1.0K | ||
buildsrc-summary.dcf | 08-May-2024 00:32 | 432 | ||
checksrc-out.txt | 08-May-2024 00:32 | 4.2K | ||
checksrc-summary.dcf | 08-May-2024 00:32 | 451 | ||
install-out.txt | 08-May-2024 00:32 | 1.8K | ||
install-summary.dcf | 08-May-2024 00:32 | 272 | ||