![]() | Name | Last modified | Size | Description |
---|---|---|---|---|
![]() | Parent Directory | - | ||
![]() | buildbin-out.txt | 28-Sep-2023 00:37 | 1.1K | |
![]() | buildbin-summary.dcf | 28-Sep-2023 00:37 | 566 | |
![]() | buildsrc-out.txt | 28-Sep-2023 00:37 | 880 | |
![]() | buildsrc-summary.dcf | 28-Sep-2023 00:37 | 446 | |
![]() | checksrc-out.txt | 28-Sep-2023 00:37 | 3.7K | |
![]() | checksrc-summary.dcf | 28-Sep-2023 00:37 | 468 | |
![]() | install-out.txt | 28-Sep-2023 00:37 | 885 | |
![]() | install-summary.dcf | 28-Sep-2023 00:37 | 281 | |