Index of /checkResults/release/bioc-LATEST/zellkonverter/raw-results
Name
Last modified
Size
Description
Parent Directory
-
info.dcf
01-Oct-2023 00:37
280
merida1/
01-Oct-2023 00:37
-
nebbiolo1/
01-Oct-2023 00:36
-
palomino3/
01-Oct-2023 00:36
-