Index of /checkResults/release/bioc-LATEST/yamss/raw-results

[ICO]NameLast modifiedSizeDescription

[DIR]Parent Directory  -  
[   ]info.dcf21-May-2022 01:09 269  
[DIR]merida1/21-May-2022 01:09 -  
[DIR]nebbiolo1/21-May-2022 01:06 -  
[DIR]palomino3/21-May-2022 01:07 -  
[DIR]riesling1/19-Mar-2022 00:08 -