Back to Multiple platform build/check report for BioC 3.14
ABCDEFGHIJKLMNOPQRSTUVWX[Y]Z

This page was generated on 2021-11-29 15:06:17 -0500 (Mon, 29 Nov 2021).

BUILD BIN results for yamss on machv2

To the developers/maintainers of the yamss package:
- Please allow up to 24 hours (and sometimes 48 hours) for your latest push to git@git.bioconductor.org:packages/yamss.git to
reflect on this report. See How and When does the builder pull? When will my changes propagate? here for more information.
- Make sure to use the following settings in order to reproduce any error or warning you see on this page.

raw results

Package 2077/2083HostnameOS / ArchINSTALLBUILDCHECKBUILD BIN
yamss 1.20.0  (landing page)
Leslie Myint
Snapshot Date: 2021-11-28 04:15:06 -0500 (Sun, 28 Nov 2021)
git_url: https://git.bioconductor.org/packages/yamss
git_branch: RELEASE_3_14
git_last_commit: 42e2ecd
git_last_commit_date: 2021-10-26 12:31:16 -0500 (Tue, 26 Oct 2021)
nebbiolo2Linux (Ubuntu 20.04.3 LTS) / x86_64  OK    OK    OK  UNNEEDED, same version is already published
tokay2Windows Server 2012 R2 Standard / x64  OK    OK    OK    OK  UNNEEDED, same version is already published
machv2macOS 10.14.6 Mojave / x86_64  OK    OK    OK    OK  UNNEEDED, same version is already published

Summary

Package: yamss
Version: 1.20.0
Command: rm -rf yamss.buildbin-libdir && mkdir yamss.buildbin-libdir && /Users/biocbuild/BBS/utils/build-universal.sh yamss_1.20.0.tar.gz /Library/Frameworks/R.framework/Resources/bin/R yamss.buildbin-libdir
StartedAt: 2021-11-29 01:59:41 -0500 (Mon, 29 Nov 2021)
EndedAt: 2021-11-29 02:00:44 -0500 (Mon, 29 Nov 2021)
EllapsedTime: 62.7 seconds
RetCode: 0
Status:   OK  
PackageFile: yamss_1.20.0.tgz
PackageFileSize: 690.6 KiB

Command output

##############################################################################
##############################################################################
###
### Running command:
###
###   rm -rf yamss.buildbin-libdir && mkdir yamss.buildbin-libdir && /Users/biocbuild/BBS/utils/build-universal.sh yamss_1.20.0.tar.gz /Library/Frameworks/R.framework/Resources/bin/R yamss.buildbin-libdir
###
##############################################################################
##############################################################################


>>>>>>> 
>>>>>>> INSTALLATION WITH 'R CMD INSTALL --preclean --no-multiarch --library=yamss.buildbin-libdir yamss_1.20.0.tar.gz'
>>>>>>> 

* installing *source* package ‘yamss’ ...
** using staged installation
** R
** data
** inst
** byte-compile and prepare package for lazy loading
No methods found in package ‘IRanges’ for request: ‘ifelse’ when loading ‘yamss’
** help
*** installing help indices
** building package indices
** installing vignettes
** testing if installed package can be loaded from temporary location
No methods found in package ‘IRanges’ for request: ‘ifelse’ when loading ‘yamss’
** testing if installed package can be loaded from final location
No methods found in package ‘IRanges’ for request: ‘ifelse’ when loading ‘yamss’
** testing if installed package keeps a record of temporary installation path
* DONE (yamss)