Name | Last modified | Size | Description | |
---|---|---|---|---|
Parent Directory | - | |||
buildbin-summary.dcf | 29-Jun-2024 06:42 | 499 | ||
buildbin-out.txt | 29-Jun-2024 06:42 | 1.1K | ||
checksrc-summary.dcf | 29-Jun-2024 06:42 | 437 | ||
checksrc-out.txt | 29-Jun-2024 06:42 | 3.5K | ||
buildsrc-summary.dcf | 29-Jun-2024 06:42 | 443 | ||
buildsrc-out.txt | 29-Jun-2024 06:42 | 888 | ||
install-summary.dcf | 29-Jun-2024 06:42 | 263 | ||
install-out.txt | 29-Jun-2024 06:42 | 1.0K | ||