Name | Last modified | Size | Description | |
---|---|---|---|---|
Parent Directory | - | |||
buildbin-out.txt | 30-Mar-2024 00:37 | 6.0K | ||
buildbin-summary.dcf | 30-Mar-2024 00:37 | 495 | ||
buildsrc-out.txt | 30-Mar-2024 00:37 | 915 | ||
buildsrc-summary.dcf | 30-Mar-2024 00:37 | 439 | ||
checksrc-out.txt | 30-Mar-2024 00:37 | 11K | ||
checksrc-summary.dcf | 30-Mar-2024 00:37 | 434 | ||
install-out.txt | 30-Mar-2024 00:37 | 5.8K | ||
install-summary.dcf | 30-Mar-2024 00:37 | 262 | ||