Index of /checkResults/release/bioc-LATEST/xcms/raw-results
Name
Last modified
Size
Description
Parent Directory
-
kunpeng2/
03-Nov-2023 00:41
-
lconway/
05-Mar-2024 01:38
-
info.dcf
28-Mar-2024 00:35
268
nebbiolo2/
28-Mar-2024 00:36
-
palomino4/
28-Mar-2024 00:37
-
merida1/
28-Mar-2024 00:38
-