Back to Multiple platform build/check report for BioC 3.14
ABCDEFGHIJKLMNOPQRSTUVW[X]YZ

This page was generated on 2022-01-24 13:05:49 -0500 (Mon, 24 Jan 2022).

HostnameOSArch (*)R versionInstalled pkgs
nebbiolo2Linux (Ubuntu 20.04.4 LTS)x86_644.1.2 (2021-11-01) -- "Bird Hippie" 4329
tokay2Windows Server 2012 R2 Standardx644.1.2 (2021-11-01) -- "Bird Hippie" 4080
machv2macOS 10.14.6 Mojavex86_644.1.2 (2021-11-01) -- "Bird Hippie" 4141
Click on any hostname to see more info about the system (e.g. compilers)      (*) as reported by 'uname -p', except on Windows and Mac OS X

CHECK results for xcms on nebbiolo2


To the developers/maintainers of the xcms package:
- Please allow up to 24 hours (and sometimes 48 hours) for your latest push to git@git.bioconductor.org:packages/xcms.git to
reflect on this report. See How and When does the builder pull? When will my changes propagate? here for more information.
- Make sure to use the following settings in order to reproduce any error or warning you see on this page.

raw results

Package 2070/2083HostnameOS / ArchINSTALLBUILDCHECKBUILD BIN
xcms 3.16.1  (landing page)
Steffen Neumann
Snapshot Date: 2022-01-23 01:55:04 -0500 (Sun, 23 Jan 2022)
git_url: https://git.bioconductor.org/packages/xcms
git_branch: RELEASE_3_14
git_last_commit: ed02588
git_last_commit_date: 2021-11-19 10:10:20 -0500 (Fri, 19 Nov 2021)
nebbiolo2Linux (Ubuntu 20.04.4 LTS) / x86_64  OK    OK    OK  UNNEEDED, same version is already published
tokay2Windows Server 2012 R2 Standard / x64  OK    OK    OK    OK  UNNEEDED, same version is already published
machv2macOS 10.14.6 Mojave / x86_64  OK    OK    OK    OK  UNNEEDED, same version is already published

Summary

Package: xcms
Version: 3.16.1
Command: /home/biocbuild/bbs-3.14-bioc/R/bin/R CMD check --install=check:xcms.install-out.txt --library=/home/biocbuild/bbs-3.14-bioc/R/library --no-vignettes --timings xcms_3.16.1.tar.gz
StartedAt: 2022-01-23 10:11:48 -0500 (Sun, 23 Jan 2022)
EndedAt: 2022-01-23 10:22:05 -0500 (Sun, 23 Jan 2022)
EllapsedTime: 617.1 seconds
RetCode: 0
Status:   OK  
CheckDir: xcms.Rcheck
Warnings: 0

Command output

##############################################################################
##############################################################################
###
### Running command:
###
###   /home/biocbuild/bbs-3.14-bioc/R/bin/R CMD check --install=check:xcms.install-out.txt --library=/home/biocbuild/bbs-3.14-bioc/R/library --no-vignettes --timings xcms_3.16.1.tar.gz
###
##############################################################################
##############################################################################


* using log directory ‘/home/biocbuild/bbs-3.14-bioc/meat/xcms.Rcheck’
* using R version 4.1.2 (2021-11-01)
* using platform: x86_64-pc-linux-gnu (64-bit)
* using session charset: UTF-8
* using option ‘--no-vignettes’
* checking for file ‘xcms/DESCRIPTION’ ... OK
* this is package ‘xcms’ version ‘3.16.1’
* checking package namespace information ... OK
* checking package dependencies ... OK
* checking if this is a source package ... OK
* checking if there is a namespace ... OK
* checking for hidden files and directories ... NOTE
Found the following hidden files and directories:
  .BBSoptions
These were most likely included in error. See section ‘Package
structure’ in the ‘Writing R Extensions’ manual.
* checking for portable file names ... OK
* checking for sufficient/correct file permissions ... OK
* checking whether package ‘xcms’ can be installed ... OK
* checking installed package size ... NOTE
  installed size is  7.7Mb
  sub-directories of 1Mb or more:
    R      3.1Mb
    libs   3.1Mb
* checking package directory ... OK
* checking ‘build’ directory ... OK
* checking DESCRIPTION meta-information ... NOTE
License components with restrictions not permitted:
  GPL (>= 2) + file LICENSE
* checking top-level files ... OK
* checking for left-over files ... OK
* checking index information ... OK
* checking package subdirectories ... OK
* checking R files for non-ASCII characters ... OK
* checking R files for syntax errors ... OK
* checking whether the package can be loaded ... OK
* checking whether the package can be loaded with stated dependencies ... OK
* checking whether the package can be unloaded cleanly ... OK
* checking whether the namespace can be loaded with stated dependencies ... OK
* checking whether the namespace can be unloaded cleanly ... OK
* checking dependencies in R code ... NOTE
Unexported objects imported by ':::' calls:
  ‘MALDIquant:::.localMaxima’ ‘MSnbase:::.MSnExpReqFvarLabels’
  ‘MSnbase:::.plotXIC’ ‘MSnbase:::.vertical_sub_layout’
  ‘MSnbase:::formatFileSpectrumNames’
  See the note in ?`:::` about the use of this operator.
There are ::: calls to the package's namespace in its code. A package
  almost never needs to use ::: for its own objects:
  ‘.copy_env’ ‘.getChromPeakData’ ‘.get_closest_index’
  ‘.spectra_for_peaks’ ‘.split_by_file2’ ‘.validChromPeaksMatrix’
  ‘MSW.cwt’ ‘MSW.getLocalMaximumCWT’ ‘MSW.getRidge’ ‘descendMin’
  ‘descendMinTol’ ‘estimateChromNoise’ ‘getLocalNoiseEstimate’
  ‘na.flatfill’ ‘patternVsRowScore’
* checking S3 generic/method consistency ... OK
* checking replacement functions ... OK
* checking foreign function calls ... OK
* checking R code for possible problems ... NOTE
.xcmsFragments.plotTree: no visible global function definition for
  ‘edgemode<-’
.xcmsFragments.plotTree: no visible global function definition for
  ‘addEdge’
buildAnalysisSummary: no visible global function definition for
  ‘newXMLNode’
buildAssayList : <anonymous>: no visible global function definition for
  ‘newXMLNode’
buildAssayList: no visible global function definition for ‘newXMLNode’
buildAuditCollection: no visible global function definition for
  ‘newXMLNode’
buildCVlist: no visible global function definition for ‘newXMLNode’
buildCVlist: no visible global function definition for ‘addChildren’
buildCvParams : <anonymous>: no visible global function definition for
  ‘newXMLNode’
buildDataProcessingList: no visible global function definition for
  ‘newXMLNode’
buildFeatureList : <anonymous>: no visible global function definition
  for ‘newXMLNode’
buildInputFiles : <anonymous>: no visible global function definition
  for ‘newXMLNode’
buildInputFiles: no visible global function definition for ‘newXMLNode’
buildMzq: no visible global function definition for ‘xmlTree’
buildSmallMoleculeList : <anonymous>: no visible global function
  definition for ‘newXMLNode’
buildSmallMoleculeList: no visible global function definition for
  ‘newXMLNode’
buildSoftwareList: no visible global function definition for
  ‘newXMLNode’
buildStudyVariableList : <anonymous>: no visible global function
  definition for ‘newXMLNode’
buildStudyVariableList : <anonymous> : <anonymous>: no visible global
  function definition for ‘newXMLNode’
buildStudyVariableList: no visible global function definition for
  ‘newXMLNode’
chromPeakSpectra: no visible global function definition for ‘List’
featureSpectra: no visible global function definition for ‘List’
plotQC: no visible global function definition for ‘sampleNames’
running: multiple local function definitions for ‘funct’ with different
  formal arguments
verify.mzQuantML: no visible global function definition for
  ‘xmlTreeParse’
verify.mzQuantML: no visible global function definition for
  ‘xmlInternalTreeParse’
verify.mzQuantML: no visible global function definition for
  ‘xmlSchemaValidate’
xcmsClusterApply: no visible global function definition for
  ‘checkCluster’
xcmsClusterApply : submit: no visible global function definition for
  ‘sendCall’
xcmsClusterApply: no visible global function definition for
  ‘recvOneResult’
xcmsClusterApply: no visible global function definition for
  ‘checkForRemoteErrors’
xcmsPapply: no visible global function definition for ‘mpi.comm.size’
xcmsPapply: no visible global function definition for
  ‘mpi.spawn.Rslaves’
xcmsPapply: no visible global function definition for ‘mpi.comm.rank’
xcmsPapply : papply_int_slavefunction: no visible global function
  definition for ‘mpi.send.Robj’
xcmsPapply : papply_int_slavefunction: no visible global function
  definition for ‘mpi.recv.Robj’
xcmsPapply : papply_int_slavefunction: no visible global function
  definition for ‘mpi.any.source’
xcmsPapply : papply_int_slavefunction: no visible global function
  definition for ‘mpi.any.tag’
xcmsPapply : papply_int_slavefunction: no visible global function
  definition for ‘mpi.get.sourcetag’
xcmsPapply: no visible global function definition for
  ‘mpi.bcast.Robj2slave’
xcmsPapply: no visible global function definition for ‘mpi.bcast.cmd’
xcmsPapply: no visible global function definition for ‘mpi.recv.Robj’
xcmsPapply: no visible global function definition for ‘mpi.any.source’
xcmsPapply: no visible global function definition for ‘mpi.any.tag’
xcmsPapply: no visible global function definition for
  ‘mpi.get.sourcetag’
xcmsPapply: no visible global function definition for ‘mpi.send.Robj’
xcmsParallelSetup: no visible global function definition for
  ‘mpi.spawn.Rslaves’
xcmsParallelSetup: no visible global function definition for
  ‘mpi.comm.size’
xcmsParallelSetup: no visible global function definition for
  ‘mpi.comm.rank’
xcmsParallelSetup: no visible global function definition for
  ‘makeCluster’
[,XChromatograms-ANY-ANY-ANY: no visible global function definition for
  ‘pData<-’
plotSurf,xcmsRaw: no visible global function definition for ‘rgl.clear’
plotSurf,xcmsRaw: no visible global function definition for
  ‘rgl.surface’
plotSurf,xcmsRaw: no visible global function definition for
  ‘rgl.points’
plotSurf,xcmsRaw: no visible global function definition for ‘rgl.bbox’
plotTree,xcmsFragments: no visible global function definition for
  ‘edgemode<-’
plotTree,xcmsFragments: no visible global function definition for
  ‘addEdge’
refineChromPeaks,XCMSnExp-FilterIntensityParam: no visible binding for
  global variable ‘value’
write.cdf,xcmsRaw: no visible global function definition for
  ‘ncdim_def’
write.cdf,xcmsRaw: no visible global function definition for
  ‘ncvar_def’
write.cdf,xcmsRaw: no visible global function definition for
  ‘nc_create’
write.cdf,xcmsRaw: no visible global function definition for
  ‘ncvar_put’
write.cdf,xcmsRaw: no visible global function definition for
  ‘ncatt_put’
write.cdf,xcmsRaw: no visible global function definition for ‘nc_close’
write.mzQuantML,xcmsSet: no visible global function definition for
  ‘saveXML’
write.mzdata,xcmsRaw: no visible global function definition for
  ‘base64encode’
Undefined global functions or variables:
  List addChildren addEdge base64encode checkCluster
  checkForRemoteErrors edgemode<- makeCluster mpi.any.source
  mpi.any.tag mpi.bcast.Robj2slave mpi.bcast.cmd mpi.comm.rank
  mpi.comm.size mpi.get.sourcetag mpi.recv.Robj mpi.send.Robj
  mpi.spawn.Rslaves nc_close nc_create ncatt_put ncdim_def ncvar_def
  ncvar_put newXMLNode pData<- recvOneResult rgl.bbox rgl.clear
  rgl.points rgl.surface sampleNames saveXML sendCall value
  xmlInternalTreeParse xmlSchemaValidate xmlTree xmlTreeParse
* checking Rd files ... OK
* checking Rd metadata ... OK
* checking Rd cross-references ... OK
* checking for missing documentation entries ... OK
* checking for code/documentation mismatches ... OK
* checking Rd \usage sections ... OK
* checking Rd contents ... OK
* checking for unstated dependencies in examples ... OK
* checking contents of ‘data’ directory ... OK
* checking data for non-ASCII characters ... OK
* checking data for ASCII and uncompressed saves ... OK
* checking line endings in C/C++/Fortran sources/headers ... OK
* checking line endings in Makefiles ... OK
* checking compilation flags in Makevars ... OK
* checking for GNU extensions in Makefiles ... OK
* checking for portable use of $(BLAS_LIBS) and $(LAPACK_LIBS) ... OK
* checking use of PKG_*FLAGS in Makefiles ... OK
* checking compiled code ... NOTE
Note: information on .o files is not available
* checking files in ‘vignettes’ ... OK
* checking examples ... OK
* checking for unstated dependencies in ‘tests’ ... OK
* checking tests ...
  Running ‘testthat.R’
 OK
* checking for unstated dependencies in vignettes ... OK
* checking package vignettes in ‘inst/doc’ ... OK
* checking running R code from vignettes ... SKIPPED
* checking re-building of vignette outputs ... SKIPPED
* checking PDF version of manual ... OK
* DONE

Status: 6 NOTEs
See
  ‘/home/biocbuild/bbs-3.14-bioc/meat/xcms.Rcheck/00check.log’
for details.



Installation output

xcms.Rcheck/00install.out

##############################################################################
##############################################################################
###
### Running command:
###
###   /home/biocbuild/bbs-3.14-bioc/R/bin/R CMD INSTALL xcms
###
##############################################################################
##############################################################################


* installing to library ‘/home/biocbuild/bbs-3.14-bioc/R/library’
* installing *source* package ‘xcms’ ...
** using staged installation
** libs
rm -f massifquant/xcms_massifquant.o massifquant/TrMgr.o massifquant/Tracker.o massifquant/SegProc.o massifquant/DataKeeper.o massifquant/OpOverload.o obiwarp/mat.o obiwarp/vec.o obiwarp/xcms_dynprog.o obiwarp/xcms_lmat.o xcms_obiwarp.o fastMatch.o mzClust_hclust.o mzROI.o util.o xcms.o binners.o
g++ -std=gnu++14 -I"/home/biocbuild/bbs-3.14-bioc/R/include" -DNDEBUG   -I/usr/local/include   -fpic  -g -O2  -Wall -c massifquant/xcms_massifquant.cpp -o massifquant/xcms_massifquant.o
g++ -std=gnu++14 -I"/home/biocbuild/bbs-3.14-bioc/R/include" -DNDEBUG   -I/usr/local/include   -fpic  -g -O2  -Wall -c massifquant/TrMgr.cpp -o massifquant/TrMgr.o
g++ -std=gnu++14 -I"/home/biocbuild/bbs-3.14-bioc/R/include" -DNDEBUG   -I/usr/local/include   -fpic  -g -O2  -Wall -c massifquant/Tracker.cpp -o massifquant/Tracker.o
g++ -std=gnu++14 -I"/home/biocbuild/bbs-3.14-bioc/R/include" -DNDEBUG   -I/usr/local/include   -fpic  -g -O2  -Wall -c massifquant/SegProc.cpp -o massifquant/SegProc.o
g++ -std=gnu++14 -I"/home/biocbuild/bbs-3.14-bioc/R/include" -DNDEBUG   -I/usr/local/include   -fpic  -g -O2  -Wall -c massifquant/DataKeeper.cpp -o massifquant/DataKeeper.o
g++ -std=gnu++14 -I"/home/biocbuild/bbs-3.14-bioc/R/include" -DNDEBUG   -I/usr/local/include   -fpic  -g -O2  -Wall -c massifquant/OpOverload.cpp -o massifquant/OpOverload.o
g++ -std=gnu++14 -I"/home/biocbuild/bbs-3.14-bioc/R/include" -DNDEBUG   -I/usr/local/include   -fpic  -g -O2  -Wall -c obiwarp/mat.cpp -o obiwarp/mat.o
g++ -std=gnu++14 -I"/home/biocbuild/bbs-3.14-bioc/R/include" -DNDEBUG   -I/usr/local/include   -fpic  -g -O2  -Wall -c obiwarp/vec.cpp -o obiwarp/vec.o
g++ -std=gnu++14 -I"/home/biocbuild/bbs-3.14-bioc/R/include" -DNDEBUG   -I/usr/local/include   -fpic  -g -O2  -Wall -c obiwarp/xcms_dynprog.cpp -o obiwarp/xcms_dynprog.o
obiwarp/xcms_dynprog.cpp: In member function ‘void DynProg::find_path(VEC::MatF&, VEC::VecF&, int, float, float, int, float)’:
obiwarp/xcms_dynprog.cpp:1113:9: warning: variable ‘bestscore’ set but not used [-Wunused-but-set-variable]
 1113 |   float bestscore;
      |         ^~~~~~~~~
g++ -std=gnu++14 -I"/home/biocbuild/bbs-3.14-bioc/R/include" -DNDEBUG   -I/usr/local/include   -fpic  -g -O2  -Wall -c obiwarp/xcms_lmat.cpp -o obiwarp/xcms_lmat.o
g++ -std=gnu++14 -I"/home/biocbuild/bbs-3.14-bioc/R/include" -DNDEBUG   -I/usr/local/include   -fpic  -g -O2  -Wall -c xcms_obiwarp.cpp -o xcms_obiwarp.o
gcc -I"/home/biocbuild/bbs-3.14-bioc/R/include" -DNDEBUG   -I/usr/local/include   -fpic  -g -O2  -Wall -c fastMatch.c -o fastMatch.o
gcc -I"/home/biocbuild/bbs-3.14-bioc/R/include" -DNDEBUG   -I/usr/local/include   -fpic  -g -O2  -Wall -c mzClust_hclust.c -o mzClust_hclust.o
gcc -I"/home/biocbuild/bbs-3.14-bioc/R/include" -DNDEBUG   -I/usr/local/include   -fpic  -g -O2  -Wall -c mzROI.c -o mzROI.o
gcc -I"/home/biocbuild/bbs-3.14-bioc/R/include" -DNDEBUG   -I/usr/local/include   -fpic  -g -O2  -Wall -c util.c -o util.o
gcc -I"/home/biocbuild/bbs-3.14-bioc/R/include" -DNDEBUG   -I/usr/local/include   -fpic  -g -O2  -Wall -c xcms.c -o xcms.o
gcc -I"/home/biocbuild/bbs-3.14-bioc/R/include" -DNDEBUG   -I/usr/local/include   -fpic  -g -O2  -Wall -c binners.c -o binners.o
binners.c: In function ‘_breaks_on_binSize’:
binners.c:357:7: warning: unused variable ‘idx’ [-Wunused-variable]
  357 |   int idx = 0;
      |       ^~~
g++ -std=gnu++14 -shared -L/home/biocbuild/bbs-3.14-bioc/R/lib -L/usr/local/lib -o xcms.so massifquant/xcms_massifquant.o massifquant/TrMgr.o massifquant/Tracker.o massifquant/SegProc.o massifquant/DataKeeper.o massifquant/OpOverload.o obiwarp/mat.o obiwarp/vec.o obiwarp/xcms_dynprog.o obiwarp/xcms_lmat.o xcms_obiwarp.o fastMatch.o mzClust_hclust.o mzROI.o util.o xcms.o binners.o -L/home/biocbuild/bbs-3.14-bioc/R/lib -lR
installing to /home/biocbuild/bbs-3.14-bioc/R/library/00LOCK-xcms/00new/xcms/libs
** R
** data
** inst
** byte-compile and prepare package for lazy loading
Creating a new generic function for ‘group’ in package ‘xcms’
Creating a new generic function for ‘sigma’ in package ‘xcms’
Creating a generic function from function ‘hasFilledChromPeaks’ in package ‘xcms’
** help
*** installing help indices
** building package indices
** installing vignettes
** testing if installed package can be loaded from temporary location
** checking absolute paths in shared objects and dynamic libraries
** testing if installed package can be loaded from final location
** testing if installed package keeps a record of temporary installation path
* DONE (xcms)

Tests output

xcms.Rcheck/tests/testthat.Rout


R version 4.1.2 (2021-11-01) -- "Bird Hippie"
Copyright (C) 2021 The R Foundation for Statistical Computing
Platform: x86_64-pc-linux-gnu (64-bit)

R is free software and comes with ABSOLUTELY NO WARRANTY.
You are welcome to redistribute it under certain conditions.
Type 'license()' or 'licence()' for distribution details.

R is a collaborative project with many contributors.
Type 'contributors()' for more information and
'citation()' on how to cite R or R packages in publications.

Type 'demo()' for some demos, 'help()' for on-line help, or
'help.start()' for an HTML browser interface to help.
Type 'q()' to quit R.

> library(testthat)
> library(xcms)
Loading required package: BiocParallel
Loading required package: MSnbase
Loading required package: BiocGenerics

Attaching package: 'BiocGenerics'

The following objects are masked from 'package:stats':

    IQR, mad, sd, var, xtabs

The following objects are masked from 'package:base':

    Filter, Find, Map, Position, Reduce, anyDuplicated, append,
    as.data.frame, basename, cbind, colnames, dirname, do.call,
    duplicated, eval, evalq, get, grep, grepl, intersect, is.unsorted,
    lapply, mapply, match, mget, order, paste, pmax, pmax.int, pmin,
    pmin.int, rank, rbind, rownames, sapply, setdiff, sort, table,
    tapply, union, unique, unsplit, which.max, which.min

Loading required package: Biobase
Welcome to Bioconductor

    Vignettes contain introductory material; view with
    'browseVignettes()'. To cite Bioconductor, see
    'citation("Biobase")', and for packages 'citation("pkgname")'.

Loading required package: mzR
Loading required package: Rcpp
Loading required package: S4Vectors
Loading required package: stats4

Attaching package: 'S4Vectors'

The following objects are masked from 'package:base':

    I, expand.grid, unname

Loading required package: ProtGenerics

Attaching package: 'ProtGenerics'

The following object is masked from 'package:stats':

    smooth


This is MSnbase version 2.20.4 
  Visit https://lgatto.github.io/MSnbase/ to get started.


Attaching package: 'MSnbase'

The following object is masked from 'package:base':

    trimws


This is xcms version 3.16.1 


Attaching package: 'xcms'

The following object is masked from 'package:stats':

    sigma

> library(faahKO)
> library(msdata)
> 
> if (.Platform$OS.type == "unix") {
+     prm <- MulticoreParam(3)
+ } else {
+     # prm <- SnowParam(3)
+     prm <- SerialParam()
+ }
> register(bpstart(prm))
> 
> ## Create some objects we can re-use in different tests:
> faahko_3_files <- c(system.file('cdf/KO/ko15.CDF', package = "faahKO"),
+                     system.file('cdf/KO/ko16.CDF', package = "faahKO"),
+                     system.file('cdf/KO/ko18.CDF', package = "faahKO"))
> 
> faahko_od <- readMSData(faahko_3_files, mode = "onDisk")
Polarity can not be extracted from netCDF files, please set manually the polarity with the 'polarity' method.
> faahko_xod <- findChromPeaks(
+     faahko_od, param = CentWaveParam(noise = 10000, snthresh = 40,
+                                      prefilter = c(3, 10000)))
Detecting mass traces at 25 ppm ... OK
Detecting chromatographic peaks in 919 regions of interest ... OK: 61 found.

Detecting mass traces at 25 ppm ... OK
Detecting chromatographic peaks in 1025 regions of interest ... OK: 100 found.

Detecting mass traces at 25 ppm ... OK
Detecting chromatographic peaks in 937 regions of interest ... OK: 87 found.

> od_x <- faahko_od
> mzr <- matrix(c(335, 335, 344, 344), ncol = 2, byrow = TRUE)
> od_chrs <- chromatogram(od_x, mz = mzr)
> xod_x <- faahko_xod
> pdp <- PeakDensityParam(sampleGroups = rep(1, 3))
> xod_xg <- groupChromPeaks(xod_x, param = pdp)
Processing 2572 mz slices ... OK
> xod_xgr <- adjustRtime(xod_xg, param = PeakGroupsParam(span = 0.4))
Performing retention time correction using 19 peak groups.
Applying retention time adjustment to the identified chromatographic peaks ... OK
> xod_xgrg <- groupChromPeaks(xod_xgr, param = pdp)
Processing 2572 mz slices ... OK
> xod_r <- adjustRtime(as(od_x, "XCMSnExp"), param = ObiwarpParam())
Sample number 2 used as center sample.
Aligning ko15.CDF against ko16.CDF ... OK

Aligning ko18.CDF against ko16.CDF ... OK

> 
> xod_chr <- findChromPeaks(filterMz(filterRt(od_x, rt = c(2500, 3500)),
+                                    mz = c(334.9, 344.1)),
+                           param = CentWaveParam())
Detecting mass traces at 25 ppm ... OK
Detecting chromatographic peaks in 514 regions of interest ... OK: 23 found.

Detecting mass traces at 25 ppm ... OK
Detecting chromatographic peaks in 551 regions of interest ... OK: 29 found.

Detecting mass traces at 25 ppm ... OK
Detecting chromatographic peaks in 515 regions of interest ... OK: 20 found.

Warning message:
In .local(object, param, ...) :
  Your data appears to be not centroided! CentWave works best on data in centroid mode.
> 
> microtofq_fs <- c(system.file("microtofq/MM14.mzML", package = "msdata"),
+                   system.file("microtofq/MM8.mzML", package = "msdata"))
> microtofq_od <- readMSData(microtofq_fs, mode = "onDisk")
> 
> ## Direct injection data:
> fticrf <- list.files(system.file("fticr", package = "msdata"),
+                      recursive = TRUE, full.names = TRUE)
> fticr <- readMSData(fticrf[1:2], msLevel. = 1, mode = "onDisk")
> fticr_xod <- findChromPeaks(fticr, MSWParam(scales = c(1, 7),
+                                             peakThr = 80000, ampTh = 0.005,
+                                             SNR.method = "data.mean",
+                                             winSize.noise = 500))
> ## Pesticide data
> fl <- system.file("TripleTOF-SWATH", "PestMix1_SWATH.mzML", package = "msdata")
> pest_swth <- readMSData(fl, mode = "onDisk")
> cwp <- CentWaveParam(snthresh = 5, noise = 100, ppm = 10,
+                      peakwidth = c(3, 20), prefilter = c(3, 1000))
> pest_swth <- findChromPeaks(pest_swth, param = cwp)
Detecting mass traces at 10 ppm ... OK
Detecting chromatographic peaks in 11 regions of interest ... OK: 11 found.

> pest_swth <- findChromPeaksIsolationWindow(pest_swth, param = cwp)
Detecting mass traces at 10 ppm ... OK

Detecting mass traces at 10 ppm ... OK
Detecting chromatographic peaks in 2 regions of interest ... OK: 2 found.

Detecting mass traces at 10 ppm ... OK
Detecting chromatographic peaks in 7 regions of interest ... OK: 7 found.

Detecting mass traces at 10 ppm ... OK
Detecting chromatographic peaks in 3 regions of interest ... OK: 3 found.

Detecting mass traces at 10 ppm ... OK
Detecting chromatographic peaks in 17 regions of interest ... OK: 17 found.

Detecting mass traces at 10 ppm ... OK
Detecting chromatographic peaks in 3 regions of interest ... OK: 2 found.

Detecting mass traces at 10 ppm ... OK
Detecting chromatographic peaks in 10 regions of interest ... OK: 10 found.

Detecting mass traces at 10 ppm ... OK
Detecting chromatographic peaks in 3 regions of interest ... OK: 3 found.

Warning message:
In .processResultList(resList, getProcHist = return.type == "xcmsSet",  :
  No peaks found in sample number 1.
> 
> fl <- system.file("TripleTOF-SWATH", "PestMix1_DDA.mzML", package = "msdata")
> pest_dda <- readMSData(fl, mode = "onDisk")
> pest_dda <- findChromPeaks(pest_dda, param = cwp)
Detecting mass traces at 10 ppm ... OK
Detecting chromatographic peaks in 29 regions of interest ... OK: 28 found.

> 
> ## Sciex test data.
> ## fl <- dir(system.file("sciex", package = "msdata"), full.names = TRUE)
> ## sciex_data <- readMSData(fl, mode = "onDisk")
> ## sciex_data <- pickPeaks(sciex_data)
> 
> test_check("xcms")
Object of class:  CleanPeaksParam 
 Parameters:
 - maxPeakwidth: [1] 13.2
Object of class:  MergeNeighboringPeaksParam 
 Parameters:
 - expandRt: [1] 5
 - expandMz: [1] 0.1
 - ppm: [1] 20
 - minProp: [1] 0.9
8.00  16.00  24.00  28.00  32.00  40.00  48.00  52.00  56.00  60.00  64.00  72.00  80.00  84.00  88.00  96.00  100.00  
8.00  16.00  28.00  32.00  40.00  64.00  80.00  96.00  100.00  
8.00  16.00  24.00  28.00  32.00  40.00  48.00  52.00  56.00  60.00  64.00  72.00  80.00  84.00  88.00  96.00  100.00  
8.00  16.00  28.00  32.00  40.00  56.00  64.00  80.00  88.00  96.00  100.00  
8.00  16.00  24.00  28.00  32.00  40.00  48.00  52.00  56.00  60.00  64.00  72.00  80.00  84.00  88.00  96.00  100.00  
Object of class: XChromatogram
length of object: 0
from file: 
mz range: [NA, NA]
MS level: 1
Identified chromatographic peaks (0):
 rt	rtmin	rtmax	into	maxo	sn 
[ FAIL 0 | WARN 670 | SKIP 11 | PASS 2852 ]

══ Skipped tests ═══════════════════════════════════════════════════════════════
• empty test (11)

[ FAIL 0 | WARN 670 | SKIP 11 | PASS 2852 ]
> 
> bpstop(prm)
> 
> 
> proc.time()
   user  system elapsed 
144.116  11.782 326.529 

Example timings

xcms.Rcheck/xcms-Ex.timings

nameusersystemelapsed
AutoLockMass-methods000
GenericParam0.0010.0010.001
XCMSnExp-class1.9420.0882.041
XCMSnExp-filter-methods0.2320.0000.232
XChromatogram1.3690.0361.405
adjustRtime-obiwarp1.8770.0511.929
adjustRtime-peakGroups0.3970.0010.396
applyAdjustedRtime1.2620.0511.314
binYonX0.0010.0010.001
breaks_on_binSize0.0010.0000.001
breaks_on_nBins0.0000.0000.001
chromPeakSpectra2.0900.0672.124
chromatogram-method0.9380.0681.006
correlate-Chromatogram0.0090.0000.010
descendZero0.0010.0000.001
do_findChromPeaks_centWave0.4530.0120.464
do_findChromPeaks_massifquant0.6870.0080.695
do_findChromPeaks_matchedFilter0.6150.0080.623
do_groupChromPeaks_density0.1860.0000.186
extractMsData-method0.2160.0040.220
featureChromatograms0.7120.0000.712
fillChromPeaks1.7590.0241.783
filter-MChromatograms0.1660.0000.166
findChromPeaks-Chromatogram-CentWaveParam3.3450.0363.381
findChromPeaks-Chromatogram-MatchedFilter0.330.000.33
findChromPeaks-centWave1.8460.0081.854
findChromPeaks-centWaveWithPredIsoROIs0.0060.0000.006
findChromPeaks-massifquant2.5210.0162.538
findChromPeaks-matchedFilter1.4960.0161.512
findMZ000
findPeaks-MSW1.0040.0001.006
findPeaks.massifquant-methods4.3080.0404.348
findneutral000
group.mzClust0.0000.0000.001
group.nearest000
groupChromPeaks-density0.2430.0000.243
groupChromPeaks-mzClust1.9370.0201.958
groupChromPeaks-nearest0.270.000.27
groupFeatures-abundance-correlation0.4020.0000.403
groupFeatures-eic-similarity4.6710.0844.755
groupFeatures-similar-rtime0.3720.0000.371
groupOverlaps0.0000.0000.001
highlightChromPeaks0.4950.0240.519
imputeLinInterpol0.0040.0000.004
imputeRowMin0.9300.0040.933
imputeRowMinRand0.9830.0080.991
medianFilter0.0000.0000.001
msn2xcmsRaw0.8190.0160.847
overlappingFeatures0.2330.0000.233
peakTable-methods000
peaksWithCentWave0.7470.0080.755
peaksWithMatchedFilter0.1550.0000.155
phenoDataFromPaths0.0000.0000.001
plotAdjustedRtime0.3320.0000.332
plotChromPeakDensity0.0230.0000.022
plotChromPeaks0.450.000.45
plotChromatogramsOverlay1.9200.0241.943
plotMsData1.5340.0281.561
plotQC1.2610.0081.269
profGenerate000
profMat-xcmsSet1.4610.0241.485
profStep-methods000
rectUnique0.0010.0000.002
refineChromPeaks-clean0.0350.0000.035
refineChromPeaks-filter-intensity2.0060.0322.037
refineChromPeaks-merge1.3750.0161.392
removeIntensity-Chromatogram0.0010.0000.002
rla000
stitch-methods000
sub-xcmsRaw-logicalOrNumeric-missing-missing-method0.7740.0160.790
writeMzTab0.9440.0040.949
xcmsRaw0.0000.0000.001