Name | Last modified | Size | Description | |
---|---|---|---|---|
Parent Directory | - | |||
install-summary.dcf | 15-Jun-2024 03:38 | 266 | ||
buildsrc-summary.dcf | 15-Jun-2024 03:38 | 428 | ||
checksrc-summary.dcf | 15-Jun-2024 03:38 | 429 | ||
buildsrc-out.txt | 15-Jun-2024 03:38 | 822 | ||
install-out.txt | 15-Jun-2024 03:38 | 956 | ||
checksrc-out.txt | 15-Jun-2024 03:38 | 13K | ||