Name | Last modified | Size | Description | |
---|---|---|---|---|
Parent Directory | - | |||
checksrc-out.txt | 12-Jun-2024 03:44 | 7.0K | ||
buildbin-out.txt | 12-Jun-2024 03:44 | 1.2K | ||
install-out.txt | 12-Jun-2024 03:44 | 1.0K | ||
buildsrc-out.txt | 12-Jun-2024 03:44 | 891 | ||
buildbin-summary.dcf | 12-Jun-2024 03:44 | 548 | ||
checksrc-summary.dcf | 12-Jun-2024 03:44 | 456 | ||
buildsrc-summary.dcf | 12-Jun-2024 03:44 | 435 | ||
install-summary.dcf | 12-Jun-2024 03:44 | 275 | ||