Name | Last modified | Size | Description | |
---|---|---|---|---|
Parent Directory | - | |||
install-out.txt | 29-Jun-2024 06:42 | 1.6K | ||
install-summary.dcf | 29-Jun-2024 06:42 | 274 | ||
buildsrc-out.txt | 29-Jun-2024 06:42 | 914 | ||
buildsrc-summary.dcf | 29-Jun-2024 06:42 | 465 | ||
checksrc-summary.dcf | 29-Jun-2024 06:42 | 465 | ||
checksrc-out.txt | 29-Jun-2024 06:42 | 31K | ||
buildbin-summary.dcf | 29-Jun-2024 06:42 | 533 | ||
buildbin-out.txt | 29-Jun-2024 06:42 | 1.8K | ||