Name | Last modified | Size | Description | |
---|---|---|---|---|
Parent Directory | - | |||
buildbin-out.txt | 10-Jul-2024 06:42 | 1.7K | ||
buildbin-summary.dcf | 10-Jul-2024 06:42 | 549 | ||
buildsrc-out.txt | 10-Jul-2024 06:42 | 891 | ||
buildsrc-summary.dcf | 10-Jul-2024 06:42 | 437 | ||
checksrc-out.txt | 10-Jul-2024 06:42 | 31K | ||
checksrc-summary.dcf | 10-Jul-2024 06:42 | 462 | ||
install-out.txt | 10-Jul-2024 06:42 | 1.5K | ||
install-summary.dcf | 10-Jul-2024 06:42 | 276 | ||