Name | Last modified | Size | Description | |
---|---|---|---|---|
Parent Directory | - | |||
install-out.txt | 12-Jun-2024 03:44 | 1.5K | ||
install-summary.dcf | 12-Jun-2024 03:44 | 275 | ||
buildsrc-out.txt | 12-Jun-2024 03:44 | 891 | ||
buildsrc-summary.dcf | 12-Jun-2024 03:44 | 437 | ||
checksrc-out.txt | 12-Jun-2024 03:44 | 31K | ||
checksrc-summary.dcf | 12-Jun-2024 03:44 | 462 | ||
buildbin-out.txt | 12-Jun-2024 03:44 | 1.7K | ||
buildbin-summary.dcf | 12-Jun-2024 03:44 | 547 | ||